BEGIN:VCALENDAR

METHOD:PUBLISH
PRODID:-//Typo3 CMS\, News Event Extension

VERSION:2.0


BEGIN:VEVENT
SEQUENCE:0
DTSTART:20260617T133000Z
DTEND:20260617T150000Z
DTSTAMP:20260416T134528Z
SUMMARY:Frauke Angel: Logbuch einer Himmelsstürmerin 
LOCATION:
DESCRIPTION:Kinderbuchlesung ab 9\r\nin Frankfurt\r\nEintritt nach Anmeldung frei
UID:tt_news2924@literaturhaus-frankfurt.de

URL;VALUE=URI:https://literaturhaus-frankfurt.de/https://literaturhaus-frankfurt.de/programm/termine/frauke-angel-logbuch-einer-himmelsstuermerin-2026-06-17/?tx_ttnews%5BbackPid%5D=79
END:VEVENT

END:VCALENDAR