BEGIN:VCALENDAR

METHOD:PUBLISH
PRODID:-//Typo3 CMS\, News Event Extension

VERSION:2.0


BEGIN:VEVENT
SEQUENCE:0
DTSTART:20260616T130000Z
DTEND:20260616T143000Z
DTSTAMP:20260421T075242Z
SUMMARY:Frauke Angel liest "Hunderunde"
LOCATION:
DESCRIPTION:Sachbuchlesung ab 10\r\nin Frankfurt\r\nEintritt nach Anmeldung frei
UID:tt_news2993@literaturhaus-frankfurt.de

URL;VALUE=URI:https://literaturhaus-frankfurt.de/https://literaturhaus-frankfurt.de/programm/termine/frauke-angel-liest-hunderunde-2026-06-16/?L=%27%3E%22%3E%3C%2Fscript%3E%3Csvg%2Fonload&tx_ttnews%5BbackPid%5D=79
END:VEVENT

END:VCALENDAR