BEGIN:VCALENDAR

METHOD:PUBLISH
PRODID:-//Typo3 CMS\, News Event Extension

VERSION:2.0


BEGIN:VEVENT
SEQUENCE:0
DTSTART:20260619T133000Z
DTEND:20260619T150000Z
DTSTAMP:20260420T084724Z
SUMMARY:Ferdinand Lutz: Comic-Werkstatt
LOCATION:
DESCRIPTION:Comic-Workshop von 6 bis 12\r\nin Frankfurt\r\nEintritt nach Anmeldung frei
UID:tt_news2943@literaturhaus-frankfurt.de

URL;VALUE=URI:https://literaturhaus-frankfurt.de/https://literaturhaus-frankfurt.de/programm/termine/ferdinand-lutz-comic-werkstatt-2026-06-19/?L=%27%3E%22%3E%3C%2Fscript%3E%3Csvg%2Fonload&tx_ttnews%5BbackPid%5D=79
END:VEVENT

END:VCALENDAR