BEGIN:VCALENDAR

METHOD:PUBLISH
PRODID:-//Typo3 CMS\, News Event Extension

VERSION:2.0


BEGIN:VEVENT
SEQUENCE:0
DTSTART:20260616T083000Z
DTEND:20260616T100000Z
DTSTAMP:20260420T084647Z
SUMMARY:Eva Lezzi: Die Großstadtdetektive - Wo ist Annabelle? (Band 2)
LOCATION:
DESCRIPTION:Kinderbuchlesung ab Klasse 3\r\nin Frankfurt\r\nEintritt nach Anmeldung frei
UID:tt_news2984@literaturhaus-frankfurt.de

URL;VALUE=URI:https://literaturhaus-frankfurt.de/https://literaturhaus-frankfurt.de/programm/termine/eva-lezzi-die-grossstadtdetektive-wo-ist-annabelle-band-2-2026-06-16/?L=%27%3E%22%3E%3C%2Fscript%3E%3Csvg%2Fonload&tx_ttnews%5BbackPid%5D=79
END:VEVENT

END:VCALENDAR