BEGIN:VCALENDAR

METHOD:PUBLISH
PRODID:-//Typo3 CMS\, News Event Extension

VERSION:2.0


BEGIN:VEVENT
SEQUENCE:0
DTSTART:20260618T090000Z
DTEND:20260618T103000Z
DTSTAMP:20260416T130906Z
SUMMARY:Eva Kranenburg: Freunde 
LOCATION:
DESCRIPTION:Jugendbuchlesung ab Klasse 9\r\nin Frankfurt\r\nEintritt nach Anmeldung frei
UID:tt_news2917@literaturhaus-frankfurt.de

URL;VALUE=URI:https://literaturhaus-frankfurt.de/https://literaturhaus-frankfurt.de/programm/termine/eva-kranenburg-freunde-2026-06-18/?tx_ttnews%5BbackPid%5D=79
END:VEVENT

END:VCALENDAR