BEGIN:VCALENDAR

METHOD:PUBLISH
PRODID:-//Typo3 CMS\, News Event Extension

VERSION:2.0


BEGIN:VEVENT
SEQUENCE:0
DTSTART:20260617T170000Z
DTEND:20260617T183000Z
DTSTAMP:20260420T071533Z
SUMMARY:Einfach Lesen?! Ein Panel zur Literaturvermittlung in Schule und Kita
LOCATION:
DESCRIPTION:Hybridveranstaltung\r\nin Frankfurt
UID:tt_news2944@literaturhaus-frankfurt.de

URL;VALUE=URI:https://literaturhaus-frankfurt.de/https://literaturhaus-frankfurt.de/programm/termine/einfach-lesen-ein-panel-zur-literaturvermittlung-in-schule-und-kita-2026-06-17/?tx_ttnews%5BbackPid%5D=79
END:VEVENT

END:VCALENDAR