BEGIN:VCALENDAR

METHOD:PUBLISH
PRODID:-//Typo3 CMS\, News Event Extension

VERSION:2.0


BEGIN:VEVENT
SEQUENCE:0
DTSTART:20260618T133000Z
DTEND:20260618T150000Z
DTSTAMP:20260420T084215Z
SUMMARY:Cornelia Funke und Pauline Pete: Ayeshas Pinsel 
LOCATION:
DESCRIPTION:Bilderbuchlesung ab 7\r\nin Frankfurt
UID:tt_news2885@literaturhaus-frankfurt.de

URL;VALUE=URI:https://literaturhaus-frankfurt.de/https://literaturhaus-frankfurt.de/programm/termine/cornelia-funke-und-pauline-pete-ayeshas-pinsel-2026-06-18/?tx_ttnews%5BbackPid%5D=79
END:VEVENT

END:VCALENDAR