BEGIN:VCALENDAR

METHOD:PUBLISH
PRODID:-//Typo3 CMS\, News Event Extension

VERSION:2.0


BEGIN:VEVENT
SEQUENCE:0
DTSTART:20260619T083000Z
DTEND:20260619T100000Z
DTSTAMP:20260417T122124Z
SUMMARY:Cornelia Funke: Das grüne Königreich
LOCATION:
DESCRIPTION:Lesung für eine 3. bis 5. Klasse\r\nin Darmstadt\r\nEintritt nach Anmeldung frei
UID:tt_news2945@literaturhaus-frankfurt.de

URL;VALUE=URI:https://literaturhaus-frankfurt.de/https://literaturhaus-frankfurt.de/programm/termine/cornelia-funke-das-gruene-koenigreich-2026-06-19/?tx_ttnews%5BbackPid%5D=79
END:VEVENT

END:VCALENDAR