BEGIN:VCALENDAR

METHOD:PUBLISH
PRODID:-//Typo3 CMS\, News Event Extension

VERSION:2.0


BEGIN:VEVENT
SEQUENCE:0
DTSTART:20250626T075000Z
DTEND:20250626T090000Z
DTSTAMP:20250627T093309Z
SUMMARY:Colin Hadler: Seven Ways to Tell a Lie 
LOCATION:
DESCRIPTION:Schulveranstaltung 
UID:tt_news2680@literaturhaus-frankfurt.de

URL;VALUE=URI:https://literaturhaus-frankfurt.de/https://literaturhaus-frankfurt.de/programm/termine/colin-hadler-seven-ways-to-tell-a-lie-2025-06-26/?tx_ttnews%5BbackPid%5D=79
END:VEVENT

END:VCALENDAR