BEGIN:VCALENDAR

METHOD:PUBLISH
PRODID:-//Typo3 CMS\, News Event Extension

VERSION:2.0


BEGIN:VEVENT
SEQUENCE:0
DTSTART:20260619T143000Z
DTEND:20260619T200000Z
DTSTAMP:20260420T082453Z
SUMMARY:Antje Herden: Die weißen Sneaker oder Mein fast perfektes Leben 
LOCATION:
DESCRIPTION:Kinderbuchlesung ab 10 \r\nin Darmstadt\r\nanschließend "Jump up!" - Die Disco für Jugendliche von 12 bis 16 Jahren\r\nEintritt frei
UID:tt_news2942@literaturhaus-frankfurt.de

URL;VALUE=URI:https://literaturhaus-frankfurt.de/https://literaturhaus-frankfurt.de/programm/termine/antje-herden-die-weissen-sneaker-oder-mein-fast-perfektes-leben-2026-06-19/?L=%27%3E%22%3E%3C%2Fscript%3E%3Csvg%2Fonload&tx_ttnews%5BbackPid%5D=79
END:VEVENT

END:VCALENDAR