BEGIN:VCALENDAR

METHOD:PUBLISH
PRODID:-//Typo3 CMS\, News Event Extension

VERSION:2.0


BEGIN:VEVENT
SEQUENCE:0
DTSTART:20260619T140000Z
DTEND:20260619T153000Z
DTSTAMP:20260420T081616Z
SUMMARY:Anke Kuhl: Konrad Kröterich und die Suche nach der allerleckersten Mahlzeit
LOCATION:
DESCRIPTION:Kinderbuchlesung ab 4\r\nin Frankfurt
UID:tt_news2937@literaturhaus-frankfurt.de

URL;VALUE=URI:https://literaturhaus-frankfurt.de/https://literaturhaus-frankfurt.de/programm/termine/anke-kuhl-konrad-kroeterich-und-die-suche-nach-der-allerleckersten-mahlzeit-2026-06-19/?L=%27%3E%22%3E%3C%2Fscript%3E%3Csvg%2Fonload&tx_ttnews%5BbackPid%5D=79
END:VEVENT

END:VCALENDAR