BEGIN:VCALENDAR

METHOD:PUBLISH
PRODID:-//Typo3 CMS\, News Event Extension

VERSION:2.0


BEGIN:VEVENT
SEQUENCE:0
DTSTART:20240315T090000Z
DTEND:20240315T103000Z
DTSTAMP:20241007T134049Z
SUMMARY:Andrea Karimé: Planetenspatzen
LOCATION:
DESCRIPTION:Schullesung ab Klasse 2
UID:tt_news2382@literaturhaus-frankfurt.de

URL;VALUE=URI:https://literaturhaus-frankfurt.de/https://literaturhaus-frankfurt.de/programm/termine/andrea-karime-planetenspatzen-2024-03-15/?tx_ttnews%5BbackPid%5D=79
END:VEVENT

END:VCALENDAR